BEGIN:VCALENDAR
VERSION:2.0
PRODID:-//Ayuntamiento de Belalcázar - ECPv6.15.20//NONSGML v1.0//EN
CALSCALE:GREGORIAN
METHOD:PUBLISH
X-ORIGINAL-URL:https://belalcazar.es
X-WR-CALDESC:Eventos para Ayuntamiento de Belalcázar
REFRESH-INTERVAL;VALUE=DURATION:PT1H
X-Robots-Tag:noindex
X-PUBLISHED-TTL:PT1H
BEGIN:VTIMEZONE
TZID:UTC
BEGIN:STANDARD
TZOFFSETFROM:+0000
TZOFFSETTO:+0000
TZNAME:UTC
DTSTART:20250101T000000
END:STANDARD
END:VTIMEZONE
BEGIN:VEVENT
DTSTART;TZID=UTC:20260226T080000
DTEND;TZID=UTC:20260226T150000
DTSTAMP:20260420T125056
CREATED:20260302T110709Z
LAST-MODIFIED:20260302T110709Z
UID:63458-1772092800-1772118000@belalcazar.es
SUMMARY:Encuentro Cooperación Internacional y Desarrollo
DESCRIPTION:16º Encuentro sobre Cooperación Internacional y Desarrollo Territorial reafirmando el compromiso de los municipios de Los Pedroches con una cooperación sólida\, coordinada y transformadora.
URL:https://belalcazar.es/event/encuentro-cooperacion-internacional-y-desarrollo/
LOCATION:Dos Torres\, Calle Real Nº 13\, Dos Torres\, Córdoba\, 14460\, Spain
END:VEVENT
BEGIN:VEVENT
DTSTART;TZID=UTC:20260226T090000
DTEND;TZID=UTC:20260226T150000
DTSTAMP:20260420T125056
CREATED:20260227T075117Z
LAST-MODIFIED:20260227T132039Z
UID:63338-1772096400-1772118000@belalcazar.es
SUMMARY:Calendario
DESCRIPTION:La Excma. Alcaldesa asiste a la Diputación de Córdoba para la campaña publicitaria Castle Love\, sobre la ruta de los castillos de Córdoba \n 
URL:https://belalcazar.es/event/desplazamiento/
LOCATION:Palacio de la Merced\, Plaza de Colón 15\, Córdoba\, Córdoba\, 14001\, Spain
END:VEVENT
BEGIN:VEVENT
DTSTART;TZID=UTC:20260227T203000
DTEND;TZID=UTC:20260227T223000
DTSTAMP:20260420T125056
CREATED:20260227T081854Z
LAST-MODIFIED:20260227T102553Z
UID:63357-1772224200-1772231400@belalcazar.es
SUMMARY:Pregón y Presentación
DESCRIPTION:La Cofradía Ntro. Padre Jesús Nazareno tiene el honor de invitarles al Pregón de Semana Santa Belalcázar 2026. Asistirá la Excma. Alcaldesa Jessica Jiménez Fernández \nCon la actuación de A.M. Ntro. Padre Jesús Nazareno – «La Caridad»  
URL:https://belalcazar.es/event/pregon-y-presentacion/
LOCATION:Parroquía Santiago El Mayor Belalcázar\, Belalcázar\, Córdoba\, 14280\, Spain
END:VEVENT
BEGIN:VEVENT
DTSTART;TZID=UTC:20260228T120000
DTEND;TZID=UTC:20260228T235900
DTSTAMP:20260420T125056
CREATED:20260227T080709Z
LAST-MODIFIED:20260227T091016Z
UID:63353-1772280000-1772323140@belalcazar.es
SUMMARY:Día de Andalucía
DESCRIPTION:🇳🇬 DÍA DE ANDALUCÍA 2026 🇳🇬\nEl Excmo. Ayuntamiento de Belalcázar te invita a celebrar el Día de Andalucía con una jornada llena de música\, baile y tradición en la Nave Cultural Fuente Vieja.\nDisfrutaremos de las actuaciones de:\n✨ Tuna de la Asociación de Amas de Casa Elvira de Zúñiga.\n🎶 Coro Romero Ntra. Sra. de Gracia\n🎤 Musicoterapia de Violeta\n💃 Clases del Gimnasio Municipal de Belalcázar (Cecilia)\n🌺 Baile por Sevillanas – Grupo de Gema Fernández\n🎧 DJs invitados\nÁlvaro Antón dj.\nRubén G. R.\n🍻 Habrá servicio de barra y cocina a cargo de la Cofradía de la Santa Vera Cruz y la Hermandad de Ntra. Sra. de Consolación de Belalcázar.\nUna jornada para compartir\, disfrutar y sentir el orgullo de ser andaluces.\n¡Te esperamos para celebrar juntos nuestras raíces! 💚🤍💚\nOrganiza: Excmo. Ayuntamiento de Belalcázar
URL:https://belalcazar.es/event/calendario/
LOCATION:Nave Cultural Fuente Vieja\, C. Alcantarilla\, Belalcázar\, Córdoba\, 14280\, Spain
END:VEVENT
END:VCALENDAR