BEGIN:VCALENDAR
VERSION:2.0
PRODID:-//Ayuntamiento de Belalcázar - ECPv6.15.20//NONSGML v1.0//EN
CALSCALE:GREGORIAN
METHOD:PUBLISH
X-ORIGINAL-URL:https://belalcazar.es
X-WR-CALDESC:Eventos para Ayuntamiento de Belalcázar
REFRESH-INTERVAL;VALUE=DURATION:PT1H
X-Robots-Tag:noindex
X-PUBLISHED-TTL:PT1H
BEGIN:VTIMEZONE
TZID:UTC
BEGIN:STANDARD
TZOFFSETFROM:+0000
TZOFFSETTO:+0000
TZNAME:UTC
DTSTART:20250101T000000
END:STANDARD
END:VTIMEZONE
BEGIN:VEVENT
DTSTART;TZID=UTC:20260509T133000
DTEND;TZID=UTC:20260509T190000
DTSTAMP:20260420T110828
CREATED:20260414T123002Z
LAST-MODIFIED:20260414T123002Z
UID:63979-1778333400-1778353200@belalcazar.es
SUMMARY:Comida de los Mayores
DESCRIPTION:El  sábado día 9 de Mayo tendrá lugar la comida para nuestros Mayores\, se realizará en la Nave Cultural de la Fuente Vieja. 
URL:https://belalcazar.es/event/comida-de-los-mayores/
LOCATION:Nave Cultural Fuente Vieja\, C. Alcantarilla\, Belalcázar\, Córdoba\, 14280\, Spain
END:VEVENT
BEGIN:VEVENT
DTSTART;TZID=UTC:20260510T100000
DTEND;TZID=UTC:20260510T113000
DTSTAMP:20260420T110828
CREATED:20260416T065035Z
LAST-MODIFIED:20260417T080841Z
UID:64376-1778407200-1778412600@belalcazar.es
SUMMARY:Concentración Moto-Turistica
DESCRIPTION:El domingo 10 de mayo se realizará la concentración moto-turística del grupo Moto Club La Afición (Peñarroya-Pueblonuevo). Harán una ruta por diferentes localidades vecinas y realizarán una parada en nuestra localidad donde serán recibidos por la señora Alcaldesa\,  para después hacer una visitada guiada por la localidad. El lugar de encuentro es la Plaza de la Constitución. \n 
URL:https://belalcazar.es/event/concentracion-moto-turistica/
LOCATION:Ayuntamiento de Belalcázar\, Plaza de la Constitución Nº 11\, Belalcázar\, Córdoba\, 14280\, Spain
END:VEVENT
END:VCALENDAR